Workbook

Sheet Foglio1
A1: Sede | B1: Collocazione | C1: Reparto | D1: Nome nodo di misurazione | E1: Datalogger/Sonda
A2: Bergamo | B2: =VLOOKUP(A2,Foglio2!A$1:B$18,2,FALSE) -> Via Pietro Rovelli 53, 24125 Bergamo | C2: ST di Bergamo | D2: BG 10S 30626C | E2: 10039816.10036976
A3: Bergamo | B3: =VLOOKUP(A3,Foglio2!A$1:B$18,2,FALSE) -> Via Pietro Rovelli 53, 24125 Bergamo | C3: ST di Bergamo | D3: BG 10S 30626F | E3: 10039594.10040071
A4: Bergamo | B4: =VLOOKUP(A4,Foglio2!A$1:B$18,2,FALSE) -> Via Pietro Rovelli 53, 24125 Bergamo | C4: ST di Bergamo | D4: BG 2P T AMB-4 | E4: 10039125.10168587
A5: Bergamo | B5: =VLOOKUP(A5,Foglio2!A$1:B$18,2,FALSE) -> Via Pietro Rovelli 53, 24125 Bergamo | C5: ST di Bergamo | D5: BG 2T 50149C | E5: 10039721.10037421
A6: Bergamo | B6: =VLOOKUP(A6,Foglio2!A$1:B$18,2,FALSE) -> Via Pietro Rovelli 53, 24125 Bergamo | C6: ST di Bergamo | D6: BG 2T 50149F | E6: 10039721.10040459
A7: Bergamo | B7: =VLOOKUP(A7,Foglio2!A$1:B$18,2,FALSE) -> Via Pietro Rovelli 53, 24125 Bergamo | C7: ST di Bergamo | D7: BG 3P 36733C | E7: 10039579.10036970
A8: Bergamo | B8: =VLOOKUP(A8,Foglio2!A$1:B$18,2,FALSE) -> Via Pietro Rovelli 53, 24125 Bergamo | C8: ST di Bergamo | D8: BG 3P 36733F | E8: 10039579.10040483
A9: Bergamo | B9: =VLOOKUP(A9,Foglio2!A$1:B$18,2,FALSE) -> Via Pietro Rovelli 53, 24125 Bergamo | C9: ST di Bergamo | D9: BG 3T 32673 | E9: 10039502.10040513
A10: Bergamo | B10: =VLOOKUP(A10,Foglio2!A$1:B$18,2,FALSE) -> Via Pietro Rovelli 53, 24125 Bergamo | C10: ST di Bergamo | D10: BG 3T 33931 CUNC | E10: 10162061.10036972
A11: Bergamo | B11: =VLOOKUP(A11,Foglio2!A$1:B$18,2,FALSE) -> Via Pietro Rovelli 53, 24125 Bergamo | C11: ST di Bergamo | D11: BG 3T 50150C | E11: 10039581.10040169
A12: Bergamo | B12: =VLOOKUP(A12,Foglio2!A$1:B$18,2,FALSE) -> Via Pietro Rovelli 53, 24125 Bergamo | C12: ST di Bergamo | D12: BG 3T 50150F | E12: 10039581.10036967
A13: Bergamo | B13: =VLOOKUP(A13,Foglio2!A$1:B$18,2,FALSE) -> Via Pietro Rovelli 53, 24125 Bergamo | C13: ST di Bergamo | D13: BG 4P 32672 | E13: 10039578.10036961
... A1492: Sondrio | B1492: =VLOOKUP(A1492,Foglio2!A$1:B$18,2,FALSE) -> Via Bormio 30, 23100 Sondrio | C1492: ST di Sondrio | D1492: SO-SI-CO-56716 | E1492: 10034831.10037652

Sheet Foglio2
A1: Sede | B1: Indirizzo
A2: Bergamo | B2: Via Pietro Rovelli 53, 24125 Bergamo
A3: Binago | B3: Via Dante Alighieri 6, 22070 Binago (CO)
A4: Brescia | B4: Via Antonio Bianchi 9, 25124 Brescia
A5: Cremona | B5: Via Cardinale Guglielmo Massaia 7, 26100 Cremona
A6: Lodi | B6: Via Albert Einstein, 26900 Lodi
A7: Mantova | B7: Str. Circonvallazione Sud 21/A, 46100 Mantova
A8: Milano | B8: Via Giovanni Celoria 12, 20133 Milano
A9: Pavia | B9: Str. Privata Campeggi 59/61, 27100 Pavia
A10: Sondrio | B10: Via Bormio 30, 23100 Sondrio
A11: Bologna | B11: Via Pietro Fiorini 5, 40127 Bologna
A12: Ferrara | B12: Via Modena 483, 44124 Porotto (FE)
... A18: Reggio Emilia | B18: Via Pitagora 2, 42124 Reggio Emilia
